BEGIN:VCALENDAR
VERSION:2.0
PRODID:-//eventon.com NONSGML v1.0//EN
CALSCALE:GREGORIAN
METHOD:PUBLISH
BEGIN:VEVENT
UID:69e739b5862c6
DTSTAMP:20260421T084749Z
DTSTART:20200912T080000Z
DTEND:20200913T160000Z
LOCATION:Espace la Mare au Loup 14\,  rue de Houdan - 78610 LE PERRAY EN YVELINES
SUMMARY:Exposition féline du Perray-en-Yvelines
DESCRIPTION:Le Cat Club de Paris vous invite à participer à l’expositio
 n féline internationale les 12 et 13 septembre 2020. Elle se déroulera da
 ns la ville du Perray en Yvelines à quelques kilometres de Paris dans l&rs
 quo;Espace La mare au Loup 14 Rue de Houdan. Il s’agit d’une exposition
  de deux[..]\nhttps://www.fff-asso.fr/events/exposition-feline-du-perray-en
 -yvelines-2020/
URL:https://www.fff-asso.fr/events/exposition-feline-du-perray-en-yvelines-2020/
END:VEVENT
END:VCALENDAR