BEGIN:VCALENDAR
VERSION:2.0
PRODID:-//eventon.com NONSGML v1.0//EN
CALSCALE:GREGORIAN
METHOD:PUBLISH
BEGIN:VEVENT
UID:69e74e1283ff1
DTSTAMP:20260421T101442Z
DTSTART:20250608T080000Z
DTEND:20250608T170000Z
LOCATION:
SUMMARY:Exposition féline de Reims Animal Show
DESCRIPTION:﻿La Fédération Féline Française (FFF) participera à l&rs
 quo; édition du salon Animalier à Reims\,  les 7 et 8 mars 2026 L&rsquo;e
 xposition féline de la Fédération Féline Française est une exposition 
 toutes races\,  où une trentaine de races de chats seront présentes. La F
 FF organisera également la remise des prix pour[..]\nhttps://www.fff-asso.
 fr/events/exposition-feline-de-reims-2026/
URL:https://www.fff-asso.fr/events/exposition-feline-de-reims-2026/
END:VEVENT
END:VCALENDAR