BEGIN:VCALENDAR
VERSION:2.0
PRODID:-//eventon.com NONSGML v1.0//EN
CALSCALE:GREGORIAN
METHOD:PUBLISH
BEGIN:VEVENT
UID:69e775bb70390
DTSTAMP:20260421T130355Z
DTSTART:20190907T080000Z
DTEND:20190908T160000Z
LOCATION:Salle polyvalente de Pontorson Chaussée de Ville Chérel - 50170 PONTORSON
SUMMARY:Exposition féline de Pontorson Mont Saint Michel
DESCRIPTION:Exposition féline de Pontorson Mont Saint Michel\nhttps://www.
 fff-asso.fr/events/exposition-feline-de-pontorson-mont-saint-michel-2019/
URL:https://www.fff-asso.fr/events/exposition-feline-de-pontorson-mont-saint-michel-2019/
END:VEVENT
END:VCALENDAR