BEGIN:VCALENDAR
VERSION:2.0
PRODID:-//eventon.com NONSGML v1.0//EN
CALSCALE:GREGORIAN
METHOD:PUBLISH
BEGIN:VEVENT
UID:69ea018281548
DTSTAMP:20260423T112450Z
DTSTART:20190330T090000Z
DTEND:20190331T160000Z
LOCATION:Salle Léo Lagrange du Trait Rue François Arago 76580 LE TRAIT
SUMMARY:Exposition féline du Trait
DESCRIPTION:La ville de Le Trait accueille pour la seconde fois l&rsquo;exp
 osition féline du CCNBPL. C&rsquo;est une exposition de 2 jours avec 2 cer
 tificats. Les exposants souhaitaient revenir dans cette ville accueillante\
 ,  avec les paysages magnifiques et classés des Boucle de la Seine (forêt
 s\, abbayes). Nous avons invité 4 juges FIFe. Selon[..]\nhttps://www.fff-a
 sso.fr/events/exposition-feline-le-trait-2019/
URL:https://www.fff-asso.fr/events/exposition-feline-le-trait-2019/
END:VEVENT
END:VCALENDAR