BEGIN:VCALENDAR
VERSION:2.0
PRODID:-//eventon.com NONSGML v1.0//EN
CALSCALE:GREGORIAN
METHOD:PUBLISH
BEGIN:VEVENT
UID:69e749ada1643
DTSTAMP:20260421T095557Z
DTSTART:20260328T192500Z
DTEND:20260329T182500Z
LOCATION:
SUMMARY:Exposition Féline de Montpellier
DESCRIPTION:Pour des raisons indépendantes de notre volonté\,  nous somme
 s obligé d&rsquo;annuler ce show avec toutes nos excuses pour ce désagré
 ment\nhttps://www.fff-asso.fr/events/montpellier/
URL:https://www.fff-asso.fr/events/montpellier/
END:VEVENT
END:VCALENDAR